BEGIN:VCALENDAR
VERSION:2.0
PRODID:-// - ECPv4.9.12//NONSGML v1.0//EN
CALSCALE:GREGORIAN
METHOD:PUBLISH
X-ORIGINAL-URL:https://ealac.columbia.edu
X-WR-CALDESC:Events for 
BEGIN:VTIMEZONE
TZID:UTC
BEGIN:STANDARD
TZOFFSETFROM:+0000
TZOFFSETTO:+0000
TZNAME:UTC
DTSTART:20210101T000000
END:STANDARD
END:VTIMEZONE
BEGIN:VEVENT
DTSTART;TZID=UTC:20210407T160000
DTEND;TZID=UTC:20210407T173000
DTSTAMP:20260423T074830
CREATED:20210316T210711Z
LAST-MODIFIED:20210319T155726Z
UID:27716-1617811200-1617816600@ealac.columbia.edu
SUMMARY:Couch Conversations: 10 Questions with SVR Advocates
DESCRIPTION:Couch conversations is a 90-minute virtual roundtable discussion with survivor advocates at Sexual Violence Response. Get comfortable on your couch/sofa/chair and listen in as we discuss the multifaceted roles of an advocate\, including what it means to provide trauma-informed care and advocacy. \nAs a bonus\, get to know us as we give you a tiny glimpse into our lives outside of work. We’ll share some of our favorite podcasts\, what we are currently reading/watching/listening to\, and more! \nPlease register on Zoom.  \n
URL:https://ealac.columbia.edu/event/couch-conversations-10-questions-with-svr-advocates/
ATTACH;FMTTYPE=image/png:https://ealac.columbia.edu/wp-content/uploads/2021/03/SAAM_bedework-banner_SVR-1725-2021@436X218-202103100421.png
END:VEVENT
END:VCALENDAR