BEGIN:VCALENDAR
VERSION:2.0
PRODID:-// - ECPv4.9.12//NONSGML v1.0//EN
CALSCALE:GREGORIAN
METHOD:PUBLISH
X-ORIGINAL-URL:https://ealac.columbia.edu
X-WR-CALDESC:Events for 
BEGIN:VTIMEZONE
TZID:UTC
BEGIN:STANDARD
TZOFFSETFROM:+0000
TZOFFSETTO:+0000
TZNAME:UTC
DTSTART:20210101T000000
END:STANDARD
END:VTIMEZONE
BEGIN:VEVENT
DTSTART;VALUE=DATE:20210216
DTEND;VALUE=DATE:20210217
DTSTAMP:20260423T175240
CREATED:20201120T163700Z
LAST-MODIFIED:20201120T180332Z
UID:27039-1613433600-1613519999@ealac.columbia.edu
SUMMARY:Deadline to drop a Spring (full term) course.
DESCRIPTION:
URL:https://ealac.columbia.edu/event/deadline-to-drop-a-spring-full-term-course/
END:VEVENT
END:VCALENDAR