BEGIN:VCALENDAR
VERSION:2.0
PRODID:-// - ECPv4.9.12//NONSGML v1.0//EN
CALSCALE:GREGORIAN
METHOD:PUBLISH
X-ORIGINAL-URL:https://ealac.columbia.edu
X-WR-CALDESC:Events for 
BEGIN:VTIMEZONE
TZID:UTC
BEGIN:STANDARD
TZOFFSETFROM:+0000
TZOFFSETTO:+0000
TZNAME:UTC
DTSTART:20200101T000000
END:STANDARD
END:VTIMEZONE
BEGIN:VEVENT
DTSTART;VALUE=DATE:20201020
DTEND;VALUE=DATE:20201024
DTSTAMP:20260420T200518
CREATED:20200910T174929Z
LAST-MODIFIED:20200910T174929Z
UID:26515-1603152000-1603497599@ealac.columbia.edu
SUMMARY:Exams for Immersive Courses
DESCRIPTION:
URL:https://ealac.columbia.edu/event/exams-for-immersive-courses/
END:VEVENT
END:VCALENDAR