BEGIN:VCALENDAR
VERSION:2.0
PRODID:-// - ECPv4.9.12//NONSGML v1.0//EN
CALSCALE:GREGORIAN
METHOD:PUBLISH
X-ORIGINAL-URL:https://ealac.columbia.edu
X-WR-CALDESC:Events for 
BEGIN:VTIMEZONE
TZID:UTC
BEGIN:STANDARD
TZOFFSETFROM:+0000
TZOFFSETTO:+0000
TZNAME:UTC
DTSTART:20210101T000000
END:STANDARD
END:VTIMEZONE
BEGIN:VEVENT
DTSTART;VALUE=DATE:20210215
DTEND;VALUE=DATE:20210216
DTSTAMP:20260423T175350
CREATED:20201120T163621Z
LAST-MODIFIED:20201120T180337Z
UID:27037-1613347200-1613433599@ealac.columbia.edu
SUMMARY:General Studies: Deadline to withdraw from a Spring A course
DESCRIPTION:
URL:https://ealac.columbia.edu/event/general-studies-deadline-to-withdraw-from-a-spring-a-course/
END:VEVENT
END:VCALENDAR