BEGIN:VCALENDAR
VERSION:2.0
PRODID:-// - ECPv4.9.12//NONSGML v1.0//EN
CALSCALE:GREGORIAN
METHOD:PUBLISH
X-ORIGINAL-URL:https://ealac.columbia.edu
X-WR-CALDESC:Events for 
BEGIN:VTIMEZONE
TZID:UTC
BEGIN:STANDARD
TZOFFSETFROM:+0000
TZOFFSETTO:+0000
TZNAME:UTC
DTSTART:20210101T000000
END:STANDARD
END:VTIMEZONE
BEGIN:VEVENT
DTSTART;TZID=UTC:20210902T140000
DTEND;TZID=UTC:20210902T150000
DTSTAMP:20260421T181421
CREATED:20210810T163836Z
LAST-MODIFIED:20210810T163836Z
UID:28201-1630591200-1630594800@ealac.columbia.edu
SUMMARY:Graduate Student Teaching Orientation Debrief Session (ONLINE)
DESCRIPTION:\nAre you a graduate student teaching for the first time\, or looking for guidance on how to prepare for your first week of classes? If you haven’t done so already\, enroll in the Teaching Orientation for Graduate Students\, organized by the Center for Teaching and Learning at this link to access resources on the following topics: \n\nEstablishing instructional goals and an inclusive learning climate\nOverview of TA roles and teaching support\nCreating a policy sheet and first day of class plan\nCommon TA challenges and campus resources to help navigate them\nNext steps for teaching and professional development\n\nOnce you’ve completed these modules\, we invite you to join the CTL for this 60-minute\, synchronous (live) online session on September 2nd to debrief big ideas from the Orientation modules\, think about the application of these ideas to your specific teaching practice\, get feedback about materials you’ve prepared for the first day of classes\, and ask burning questions you have about teaching this semester. Completion of the online modules is strongly encouraged prior to joining this session in order to ensure meaningful participation in planned activities. This session will be facilitated by Caitlin DeClercq\, Assistant Director of Graduate Student Programs and Services at the CTL. \nRegistrants will be sent a Zoom link prior to the start of the session. Event regisration will close the day before this event. For same-day registration\, please email CTLgrads@columbia.edu. \nFor more information\, visit the CTL website. Register here. \nColumbia University makes every effort to accommodate individuals with disabilities. Contact CTLgrads@columbia.edu or 212.854.1692 for accommodations. CTL staff may take screenshots. For concerns\, contact CTLgrads@columbia.edu. \n\n\nEvent Contact Information:\nCenter for Teaching & Learning\nCTLgrads@columbia.edu\n
URL:https://ealac.columbia.edu/event/graduate-student-teaching-orientation-debrief-session-online/
END:VEVENT
END:VCALENDAR