BEGIN:VCALENDAR
VERSION:2.0
PRODID:-// - ECPv4.9.12//NONSGML v1.0//EN
CALSCALE:GREGORIAN
METHOD:PUBLISH
X-ORIGINAL-URL:https://ealac.columbia.edu
X-WR-CALDESC:Events for 
BEGIN:VTIMEZONE
TZID:UTC
BEGIN:STANDARD
TZOFFSETFROM:+0000
TZOFFSETTO:+0000
TZNAME:UTC
DTSTART:20210101T000000
END:STANDARD
END:VTIMEZONE
BEGIN:VEVENT
DTSTART;TZID=UTC:20210405T130000
DTEND;TZID=UTC:20210405T140000
DTSTAMP:20260423T074712
CREATED:20210316T204912Z
LAST-MODIFIED:20210319T155736Z
UID:27712-1617627600-1617631200@ealac.columbia.edu
SUMMARY:Navigating Race and Power in International Development
DESCRIPTION:Panelists: \n– Helidah (Didi) Ogude – Social Development Specialist\, currently on leave from the World Bank\n– Shawna Wakefield (MPA ’00) – Independent Consultant and Gender at Work Associate \nRegistration for this event is required. We will share a Zoom link one day prior to the event. This event is sponsored by the Economic and Political Development Concentration at SIPA. \n
URL:https://ealac.columbia.edu/event/navigating-race-and-power-in-international-development/
END:VEVENT
END:VCALENDAR