BEGIN:VCALENDAR
VERSION:2.0
PRODID:-// - ECPv4.9.12//NONSGML v1.0//EN
CALSCALE:GREGORIAN
METHOD:PUBLISH
X-ORIGINAL-URL:https://ealac.columbia.edu
X-WR-CALDESC:Events for 
BEGIN:VTIMEZONE
TZID:UTC
BEGIN:STANDARD
TZOFFSETFROM:+0000
TZOFFSETTO:+0000
TZNAME:UTC
DTSTART:20260101T000000
END:STANDARD
END:VTIMEZONE
BEGIN:VEVENT
DTSTART;TZID=UTC:20260423T120000
DTEND;TZID=UTC:20260423T133000
DTSTAMP:20260422T221005
CREATED:20260325T161556Z
LAST-MODIFIED:20260413T153211Z
UID:35745-1776945600-1776951000@ealac.columbia.edu
SUMMARY:Authoritarian Absorption: The Transnational Remaking of Epidemic Politics in China
DESCRIPTION:\n\n\n\n\nFor non-Columbia affiliates\, registration is required to access the Morningside campus. After registering you will receive an email with a QR code that must be presented along with a government-issued ID (your name must match exactly the name registered for the event) at either the 116th Street & Broadway or 116th Street & Amsterdam gates for entry. Please register using a unique email address (one email address per registrant) by 4:00 pm on Apr. 22 for campus access. \nNames will be submitted for QR codes 1-2 days prior to the event. Registrants will receive an email from CU Guest Access with the QR code before or on the day of the event. NOTE: You cannot access campus using the QR code from Eventbrite. \nSpeaker: Yan Long\, Associate Professor of Sociology\, UC Berkeley \nModerator: Qin Gao\, Maurice V. Russell Professor of Social Policy and Social Work Practice; Acting Director of the Asian American Initiative; Associate Dean for Doctoral Education; Director of China Center for Social Policy\, Columbia School of Social Work \nYan Long examines how China absorbed global health norms while remaking epidemic politics through its own authoritarian logics. Her talk highlights the interplay between digital statecraft\, bureaucratic control\, and transnational influences in shaping China’s pandemic response. The analysis draws on archival research\, interviews\, and fieldwork tracing China’s evolving epidemic governance across SARS\, AIDS\, and COVID-19. \nThis event is part of the 2025-2026 lecture series “COVID-19 Governance and Impacts: China from Comparative Perspectives.” The series will be part of the China COVID Project\, a multi-institutional\, interdisciplinary research initiative funded by the Henry Luce Foundation. It aims to spotlight new empirical and theoretical research that interrogates China’s post-COVID standing through social\, economic\, political\, and gender-based lenses. It features scholars working on governance\, public health\, digital statecraft\, labor\, gender\, and civil society responses in China and Asia. The series will foster public dialogue and contribute to documentation and analysis of the pandemic’s legacy. \nThis event is hosted by the Weatherhead East Asian Institute and cosponsored by the Columbia China Center for Social Policy. \nRegistration: \n\nTo attend this event in-person\, please register HERE.\nTo attend this event online\, please register HERE.\n\n\n\n\n\n\n\nContact Information\nJulie Kwan\njk4371@columbia.edu\n\n
URL:https://ealac.columbia.edu/event/authoritarian-absorption-the-transnational-remaking-of-epidemic-politics-in-china/
LOCATION:WEAI Conference Room (IAB 918)
END:VEVENT
BEGIN:VEVENT
DTSTART;TZID=UTC:20260423T131000
DTEND;TZID=UTC:20260423T150000
DTSTAMP:20260422T221005
CREATED:20260325T162459Z
LAST-MODIFIED:20260325T162459Z
UID:35757-1776949800-1776956400@ealac.columbia.edu
SUMMARY:Practice Teaching (Microteaching) for Graduate Students (In-Person)
DESCRIPTION:\nLooking for a supportive place to try out instructional approaches? This Practice Teaching session (formerly known as “Microteaching”) will pair you with a trained peer facilitator and a group of 3-4 other graduate students. Together\, you and your fellow participants will take turns delivering short (<10 min.) samples of instruction to each other. After each teaching sample\, your facilitator and your peers will offer structured feedback to support your teaching. Whether you are currently teaching at Columbia or not\, all graduate students looking to practice teaching are welcome to attend this Practice Teaching session. \nSome teaching skills you could practice at this session include: \n– Introducing new content\, concepts\, or skills to students (i.e.\, an engaging mini-lecture) \n– Testing new and varied modes of student engagement to boost participation and inclusivity \n– Using of visuals (blackboard\, whiteboard\, slide decks\, handouts\, etc.) to bolster learning \n– Facilitating discussion (i.e.\, posing discussion questions\, monitoring student engagement\, attention\, and learning\, etc.) \nParticipants should determine which skill they wish to focus on and come prepared with something to teach their peers in an active and engaging way. Registrants will be provided additional guidance to help prepare for Practice Teaching in the week prior to the session. \nPractice Teaching sessions are facilitated by CTL’s trained graduate student Teaching Consultants. These sessions satisfy the “Application and Practice” requirement in the Teaching Development Program. \n\nColumbia University makes every effort to accommodate individuals with disabilities. Contact ColumbiaCTL@columbia.edu or 212.854.1692 for accommodations. \nThis event may be photographed. Note\, if this is an online event\, CTL staff may take screenshots. For concerns\, contact ColumbiaCTL@columbia.edu. \n\n\nEvent Contact Information: \nCenter for Teaching and Learning\nCTLgrads@columbia.edu\n
URL:https://ealac.columbia.edu/event/practice-teaching-microteaching-for-graduate-students-in-person-12/
LOCATION:212 Butler Library\, 535 W 114th St\, New York\, NY\, 10027
END:VEVENT
BEGIN:VEVENT
DTSTART;TZID=UTC:20260423T160000
DTEND;TZID=UTC:20260423T173000
DTSTAMP:20260422T221005
CREATED:20260325T161638Z
LAST-MODIFIED:20260413T153300Z
UID:35747-1776960000-1776965400@ealac.columbia.edu
SUMMARY:Lessons from COVID-19 for Chinese Governance and State-Society Relations
DESCRIPTION:\n\n\n\n\nFor non-Columbia affiliates\, registration is required to access the Morningside campus. After registering you will receive an email with a QR code that must be presented along with a government-issued ID (your name must match exactly the name registered for the event) at either the 116th Street & Broadway or 116th Street & Amsterdam gates for entry. Please register using a unique email address (one email address per registrant) by 4:00 pm on April 23 for campus access. \nNames will be submitted for QR codes 1-2 days prior to the event. Registrants will receive an email from CU Guest Access with the QR code before or on the day of the event. NOTE: You cannot access campus using the QR code from Eventbrite. \nSpeaker: Xueguang Zhou\, Professor in the Sociology Department\, Stanford University \nModerator: Qin Gao\, Maurice V. Russell Professor of Social Policy and Social Work Practice; Acting Director of the Asian American Initiative; Associate Dean for Doctoral Education; Director of China Center for Social Policy\, Columbia School of Social Work \nXueguang Zhou analyzes organizational responses to the COVID-19 crisis in a comparative perspective and discusses how this episode sheds light on the key characteristics of governance in China\, particularly the relationship between mobilization capacity and institutional adaptability. His talk draws on his longstanding research on China’s bureaucracy and his reflections published during the pandemic. \nSpeaker’s Bio: Xueguang Zhou is a professor of sociology\, the Kwoh-Ting Li Professor in Economic Development\, a senior fellow at Freeman Spogli Institute for International Studies\, Stanford University. His book The Logic of Governance in China: An Organizational Approach (Cambridge University Press\, 2022) summarizes his decade-long research on the governance practice in contemporary China. His current research examines patterns of personnel flow in the Chinese bureaucracy and the historical evolution of the Chinese state. \nThis event is part of the 2025-2026 lecture series “COVID-19 Governance and Impacts: China from Comparative Perspectives.” The series will be part of the China COVID Project\, a multi-institutional\, interdisciplinary research initiative funded by the Henry Luce Foundation. It aims to spotlight new empirical and theoretical research that interrogates China’s post-COVID standing through social\, economic\, political\, and gender-based lenses. It features scholars working on governance\, public health\, digital statecraft\, labor\, gender\, and civil society responses in China and Asia. The series will foster public dialogue and contribute to documentation and analysis of the pandemic’s legacy. \nThis event is hosted by the Weatherhead East Asian Institute and cosponsored by the Columbia China Center for Social Policy. \nRegistration: \n\nTo attend this event in-person\, please register HERE.\nTo attend this event online\, please register HERE.\n\n\n\n\n\n\n\nContact Information\nJulie Kwan\njk4371@columbia.edu\n\n
URL:https://ealac.columbia.edu/event/lessons-from-covid-19-for-chinese-governance-and-state-society-relations/
LOCATION:WEAI Conference Room (IAB 918)
END:VEVENT
BEGIN:VEVENT
DTSTART;TZID=UTC:20260423T180000
DTEND;TZID=UTC:20260423T193000
DTSTAMP:20260422T221005
CREATED:20260325T164630Z
LAST-MODIFIED:20260325T164631Z
UID:35776-1776967200-1776972600@ealac.columbia.edu
SUMMARY:In the Shadow of Empire: Art in Occupied Japan
DESCRIPTION:This talk unearths an immensely creative yet almost entirely overlooked body of Japanese art. Drawn from Volk’s recently published In the Shadow of Empire: Art in Occupied Japan\, and introducing charismatic but little-known paitnings\, prints\, and sculpture made during the US occupation (1945-1952). It will show how the forgotten art of a country in the shadows of American empire both accommodated and resisted the Cold War global realignment that followed on the heels of World War II. Volk will reveal the transnational dimensions of early postwar Japanese artistic practices and show how they hold the potential for rethinking our histories of Japanese and global postware are alike. \nPreregistration required. Register HERE \n
URL:https://ealac.columbia.edu/event/in-the-shadow-of-empire-art-in-occupied-japan/
LOCATION:403 Kent Hall\, 1140 Amsterdam Ave.\, New York\, NY\, 10027\, United States
END:VEVENT
END:VCALENDAR